BEGIN:VCALENDAR
VERSION:2.0
PRODID:-//Plone.org//NONSGML plone.app.event//EN
X-WR-TIMEZONE:Europe/Zurich
BEGIN:VEVENT
SUMMARY:Weihnachtsessen
DTSTART;TZID=Europe/Zurich;VALUE=DATE-TIME:20231208T180000
DTSTAMP;VALUE=DATE-TIME:20260421T110940Z
UID:414b5645d8824486af6235a8daf4bd9c@82.220.37.140:8081
CREATED;VALUE=DATE-TIME:20230815T083921Z
LAST-MODIFIED;VALUE=DATE-TIME:20230815T083931Z
URL:https://www.sek-pratteln.ch/intern/events/lehrpersonen/weihnachtsessen
 -5
END:VEVENT
BEGIN:VTIMEZONE
TZID:Europe/Zurich
X-LIC-LOCATION:Europe/Zurich
BEGIN:STANDARD
DTSTART;VALUE=DATE-TIME:20231029T020000
TZNAME:CET
TZOFFSETFROM:+0200
TZOFFSETTO:+0100
END:STANDARD
END:VTIMEZONE
END:VCALENDAR
