BEGIN:VCALENDAR
VERSION:2.0
PRODID:-//Plone.org//NONSGML plone.app.event//EN
X-WR-TIMEZONE:Europe/Zurich
BEGIN:VEVENT
SUMMARY:Projekt "Start Now"
DTSTART;TZID=Europe/Zurich;VALUE=DATE-TIME:20241031T130000
DTEND;TZID=Europe/Zurich;VALUE=DATE-TIME:20241031T134500
DTSTAMP;VALUE=DATE-TIME:20260421T111007Z
UID:72e463c739a945d6a7623a37af68542b@82.220.37.140:8081
CREATED;VALUE=DATE-TIME:20241030T071951Z
LAST-MODIFIED;VALUE=DATE-TIME:20241030T072000Z
LOCATION:grosse Aula-B
URL:https://www.sek-pratteln.ch/intern/events/lehrpersonen/projekt-start-n
 ow
END:VEVENT
BEGIN:VTIMEZONE
TZID:Europe/Zurich
X-LIC-LOCATION:Europe/Zurich
BEGIN:STANDARD
DTSTART;VALUE=DATE-TIME:20241027T020000
TZNAME:CET
TZOFFSETFROM:+0200
TZOFFSETTO:+0100
END:STANDARD
END:VTIMEZONE
END:VCALENDAR
