BEGIN:VCALENDAR
VERSION:2.0
PRODID:-//Plone.org//NONSGML plone.app.event//EN
X-WR-TIMEZONE:Europe/Zurich
BEGIN:VEVENT
SUMMARY:Konzert Hauptprobe am Nachmittag
DTSTART;VALUE=DATE:20210527
DTEND;VALUE=DATE:20210528
DTSTAMP;VALUE=DATE-TIME:20260419T152925Z
UID:a3610b03d2a645c1875c8e4d2f1539c4@5.35.252.84:8090
CONTACT:Simon Matiz
CREATED;VALUE=DATE-TIME:20200825T091225Z
LAST-MODIFIED;VALUE=DATE-TIME:20200825T091706Z
URL:https://www.sek-pratteln.ch/intern/events/lehrpersonen/konzert-hauptpr
 obe-am-nachmittag
END:VEVENT
END:VCALENDAR
