BEGIN:VCALENDAR
VERSION:2.0
PRODID:-//Plone.org//NONSGML plone.app.event//EN
X-WR-TIMEZONE:Europe/Zurich
BEGIN:VEVENT
SUMMARY:Ende Partnerschulpraktika (HS25/FS26)
DTSTART;VALUE=DATE:20250529
DTEND;VALUE=DATE:20250530
DTSTAMP;VALUE=DATE-TIME:20260420T162439Z
UID:90e9a6ac536f4aa4bf8e68ac1eae6518@82.220.37.140:8081
CREATED;VALUE=DATE-TIME:20250701T051348Z
LAST-MODIFIED;VALUE=DATE-TIME:20250701T051435Z
URL:https://www.sek-pratteln.ch/intern/events/lehrpersonen/ende-partnersch
 ulpraktika-hs25-fs26
END:VEVENT
END:VCALENDAR
