BEGIN:VCALENDAR
VERSION:2.0
PRODID:-//Plone.org//NONSGML plone.app.event//EN
X-WR-TIMEZONE:Europe/Zurich
BEGIN:VEVENT
SUMMARY:BO-Sitzung zukünftige KLP 2. Klassen
DTSTART;TZID=Europe/Zurich;VALUE=DATE-TIME:20250429T163000
DTEND;TZID=Europe/Zurich;VALUE=DATE-TIME:20250429T173000
DTSTAMP;VALUE=DATE-TIME:20260421T111319Z
UID:3f709026e3504e2cbd4296e5c08c0734@82.220.37.140:8081
CREATED;VALUE=DATE-TIME:20250205T072444Z
LAST-MODIFIED;VALUE=DATE-TIME:20250205T072449Z
LOCATION:B22
URL:https://www.sek-pratteln.ch/intern/events/lehrpersonen/bo-sitzung-zuku
 enftige-klp-2-klassen
END:VEVENT
BEGIN:VTIMEZONE
TZID:Europe/Zurich
X-LIC-LOCATION:Europe/Zurich
BEGIN:DAYLIGHT
DTSTART;VALUE=DATE-TIME:20250330T030000
TZNAME:CEST
TZOFFSETFROM:+0100
TZOFFSETTO:+0200
END:DAYLIGHT
END:VTIMEZONE
END:VCALENDAR
