BEGIN:VCALENDAR
VERSION:2.0
PRODID:-//Plone.org//NONSGML plone.app.event//EN
X-WR-TIMEZONE:Europe/Zurich
BEGIN:VEVENT
SUMMARY:AG Besonderer Unterricht
DTSTART;TZID=Europe/Zurich;VALUE=DATE-TIME:20260120T153500
DTEND;TZID=Europe/Zurich;VALUE=DATE-TIME:20260120T173000
DTSTAMP;VALUE=DATE-TIME:20260421T095644Z
UID:99bb3a6965244c67b7d0bd9abad04d0c@82.220.37.140:8081
CREATED;VALUE=DATE-TIME:20260108T072430Z
LAST-MODIFIED;VALUE=DATE-TIME:20260108T072436Z
LOCATION:kleine Aula-Q
URL:https://www.sek-pratteln.ch/intern/events/lehrpersonen/ag-besonderer-u
 nterricht-4
END:VEVENT
BEGIN:VTIMEZONE
TZID:Europe/Zurich
X-LIC-LOCATION:Europe/Zurich
BEGIN:STANDARD
DTSTART;VALUE=DATE-TIME:20251026T020000
TZNAME:CET
TZOFFSETFROM:+0200
TZOFFSETTO:+0100
END:STANDARD
END:VTIMEZONE
END:VCALENDAR
