BEGIN:VCALENDAR
VERSION:2.0
PRODID:-//Plone.org//NONSGML plone.app.event//EN
X-WR-TIMEZONE:Europe/Zurich
BEGIN:VEVENT
SUMMARY:Zwischenbericht
DTSTART;VALUE=DATE:20151106
DTEND;VALUE=DATE:20151107
DTSTAMP;VALUE=DATE-TIME:20260421T145641Z
UID:040000008200E00074C5B7101A82E008000000007033AF507894D00100000000000000
 0010000000CF3C321D26D1514CB3C060836FE7EAFB
CREATED;VALUE=DATE-TIME:20150710T073754Z
DESCRIPTION:\n\n\n
LAST-MODIFIED;VALUE=DATE-TIME:20200706T064342Z
URL:https://www.sek-pratteln.ch/events/oeffentlich/zwischenbericht
END:VEVENT
END:VCALENDAR
