BEGIN:VCALENDAR
VERSION:2.0
PRODID:-//Plone.org//NONSGML plone.app.event//EN
X-WR-TIMEZONE:Europe/Zurich
BEGIN:VEVENT
SUMMARY:Zukunfstag / Weiterbildung LP
DTSTART;VALUE=DATE:20171109
DTEND;VALUE=DATE:20171110
DTSTAMP;VALUE=DATE-TIME:20260421T110817Z
UID:040000008200E00074C5B7101A82E00800000000B023235FECE8D20100000000000000
 00100000009DCCC4E14580BE4C9EEB4698A2F3A4AC
CREATED;VALUE=DATE-TIME:20170623T094910Z
DESCRIPTION:None
LAST-MODIFIED;VALUE=DATE-TIME:20200706T064350Z
LOCATION:grosse Aula\, B-Trakt und kleine Aula\, Q-Trakt
URL:https://www.sek-pratteln.ch/events/oeffentlich/zukunfstag-weiterbildun
 g-lp
END:VEVENT
END:VCALENDAR
