BEGIN:VCALENDAR
VERSION:2.0
PRODID:-//Plone.org//NONSGML plone.app.event//EN
X-WR-TIMEZONE:Europe/Zurich
BEGIN:VEVENT
SUMMARY:Zuckerfest
DTSTART;VALUE=DATE:20260320
DTEND;VALUE=DATE:20260322
DTSTAMP;VALUE=DATE-TIME:20260421T110257Z
UID:040000008200E00074C5B7101A82E008000000004017E8772AD2DB0100000000000000
 001000000076935E87BCF7F94FB11C50D44BEC9D2B
CREATED;VALUE=DATE-TIME:20250611T084842Z
LAST-MODIFIED;VALUE=DATE-TIME:20250611T085835Z
URL:https://www.sek-pratteln.ch/events/oeffentlich/zuckerfest
END:VEVENT
END:VCALENDAR
