BEGIN:VCALENDAR
VERSION:2.0
PRODID:-//Plone.org//NONSGML plone.app.event//EN
X-WR-TIMEZONE:Europe/Zurich
BEGIN:VEVENT
SUMMARY:Zeugnisabgabe
DTSTART;VALUE=DATE:20160108
DTEND;VALUE=DATE:20160109
DTSTAMP;VALUE=DATE-TIME:20260421T110548Z
UID:040000008200E00074C5B7101A82E0080000000050800A522B8FD00100000000000000
 00100000003C8CE0ED87BB0D4C89696F97F4994287
CREATED;VALUE=DATE-TIME:20150710T073748Z
DESCRIPTION:\n\n\n
LAST-MODIFIED;VALUE=DATE-TIME:20200706T064341Z
URL:https://www.sek-pratteln.ch/events/oeffentlich/zeugnisabgabe
END:VEVENT
END:VCALENDAR
