BEGIN:VCALENDAR
VERSION:2.0
PRODID:-//Plone.org//NONSGML plone.app.event//EN
X-WR-TIMEZONE:Europe/Zurich
BEGIN:VEVENT
SUMMARY:Zeugnisabgabe
DTSTART;VALUE=DATE:20220624
DTEND;VALUE=DATE:20220625
DTSTAMP;VALUE=DATE-TIME:20260420T190715Z
UID:040000008200E00074C5B7101A82E00800000000701F430DA763D70100000000000000
 0010000000379D31F194E239409CEC922FDFA40D33
CREATED;VALUE=DATE-TIME:20210701T072630Z
LAST-MODIFIED;VALUE=DATE-TIME:20210701T072754Z
URL:https://www.sek-pratteln.ch/events/oeffentlich/zeugnisabgabe-3
END:VEVENT
END:VCALENDAR
