BEGIN:VCALENDAR
VERSION:2.0
PRODID:-//Plone.org//NONSGML plone.app.event//EN
X-WR-TIMEZONE:Europe/Zurich
BEGIN:VEVENT
SUMMARY:Zeugnisabgabe 3. Klassen
DTSTART;VALUE=DATE:20220114
DTEND;VALUE=DATE:20220115
DTSTAMP;VALUE=DATE-TIME:20260421T111008Z
UID:040000008200E00074C5B7101A82E00800000000E04C4367A063D70100000000000000
 0010000000848C48A0FB11CD4C8702B85F5502F317
CREATED;VALUE=DATE-TIME:20210701T072619Z
LAST-MODIFIED;VALUE=DATE-TIME:20210701T072816Z
URL:https://www.sek-pratteln.ch/events/oeffentlich/zeugnisabgabe-3-klassen
END:VEVENT
END:VCALENDAR
