BEGIN:VCALENDAR
VERSION:2.0
PRODID:-//Plone.org//NONSGML plone.app.event//EN
X-WR-TIMEZONE:Europe/Zurich
BEGIN:VEVENT
SUMMARY:Zeugnisabgabe 3. Klassen
DTSTART;VALUE=DATE:20230113
DTEND;VALUE=DATE:20230114
DTSTAMP;VALUE=DATE-TIME:20260421T111113Z
UID:040000008200E00074C5B7101A82E00800000000C078BC343283D80100000000000000
 0010000000500B1DDAA396624E9F09CBB13D09E000
CREATED;VALUE=DATE-TIME:20220627T163415Z
DESCRIPTION: \n
LAST-MODIFIED;VALUE=DATE-TIME:20220627T165941Z
URL:https://www.sek-pratteln.ch/events/oeffentlich/zeugnisabgabe-3-klassen
 -1
END:VEVENT
END:VCALENDAR
