BEGIN:VCALENDAR
VERSION:2.0
PRODID:-//Plone.org//NONSGML plone.app.event//EN
X-WR-TIMEZONE:Europe/Zurich
BEGIN:VEVENT
SUMMARY:Zeugnisabgabe 3. Kl.
DTSTART;VALUE=DATE:20260109
DTEND;VALUE=DATE:20260110
DTSTAMP;VALUE=DATE-TIME:20260419T213916Z
UID:040000008200E00074C5B7101A82E00800000000305A22A828D2DB0100000000000000
 00100000007C23066872863244A37521DE12198909
CREATED;VALUE=DATE-TIME:20250611T084848Z
LAST-MODIFIED;VALUE=DATE-TIME:20250611T085809Z
URL:https://www.sek-pratteln.ch/events/oeffentlich/zeugnisabgabe-3-kl
END:VEVENT
END:VCALENDAR
