BEGIN:VCALENDAR
VERSION:2.0
PRODID:-//Plone.org//NONSGML plone.app.event//EN
X-WR-TIMEZONE:Europe/Zurich
BEGIN:VEVENT
SUMMARY:Zeugnisabgabe (3.Kl.: Kopie)
DTSTART;VALUE=DATE:20210625
DTEND;VALUE=DATE:20210626
DTSTAMP;VALUE=DATE-TIME:20260421T111139Z
UID:040000008200E00074C5B7101A82E00800000000B04BAA6C2A4AD60100000000000000
 0010000000DAD56B05C6B1D445AED5D063D276423E
CREATED;VALUE=DATE-TIME:20200706T062821Z
LAST-MODIFIED;VALUE=DATE-TIME:20200706T064403Z
URL:https://www.sek-pratteln.ch/events/oeffentlich/zeugnisabgabe-3-kl-kopi
 e
END:VEVENT
END:VCALENDAR
