BEGIN:VCALENDAR
VERSION:2.0
PRODID:-//Plone.org//NONSGML plone.app.event//EN
X-WR-TIMEZONE:Europe/Zurich
BEGIN:VEVENT
SUMMARY:Zeugnisabgabe
DTSTART;VALUE=DATE:20210108
DTEND;VALUE=DATE:20210109
DTSTAMP;VALUE=DATE-TIME:20260421T110703Z
UID:040000008200E00074C5B7101A82E0080000000000AA45FD184AD60100000000000000
 0010000000054E3CCD50187347AD8BA5EAAFD3EC1A
CREATED;VALUE=DATE-TIME:20200706T062845Z
LAST-MODIFIED;VALUE=DATE-TIME:20200706T064405Z
URL:https://www.sek-pratteln.ch/events/oeffentlich/zeugnisabgabe-2
END:VEVENT
END:VCALENDAR
