BEGIN:VCALENDAR
VERSION:2.0
PRODID:-//Plone.org//NONSGML plone.app.event//EN
X-WR-TIMEZONE:Europe/Zurich
BEGIN:VEVENT
SUMMARY:Zeugnisabgabe
DTSTART;VALUE=DATE:20160624
DTEND;VALUE=DATE:20160625
DTSTAMP;VALUE=DATE-TIME:20260420T152959Z
UID:040000008200E00074C5B7101A82E00800000000A01D1285358FD00100000000000000
 0010000000982B089AEB78694BA705EEA0377D1332
CREATED;VALUE=DATE-TIME:20150710T073752Z
DESCRIPTION:\n
LAST-MODIFIED;VALUE=DATE-TIME:20200706T064342Z
URL:https://www.sek-pratteln.ch/events/oeffentlich/zeugnisabgabe-1
END:VEVENT
END:VCALENDAR
