BEGIN:VCALENDAR
VERSION:2.0
PRODID:-//Plone.org//NONSGML plone.app.event//EN
X-WR-TIMEZONE:Europe/Zurich
BEGIN:VEVENT
SUMMARY:Zeugnisabgabe 1./3. Klassen
DTSTART;VALUE=DATE:20170623
DTEND;VALUE=DATE:20170624
DTSTAMP;VALUE=DATE-TIME:20260420T051902Z
UID:040000008200E00074C5B7101A82E00800000000B022A9A183DBD10100000000000000
 0010000000719DFD78AAABE845B777DA9022F5AB12
CREATED;VALUE=DATE-TIME:20160712T121532Z
LAST-MODIFIED;VALUE=DATE-TIME:20200706T064345Z
URL:https://www.sek-pratteln.ch/events/oeffentlich/zeugnisabgabe-1-3-klass
 en
END:VEVENT
END:VCALENDAR
