BEGIN:VCALENDAR
VERSION:2.0
PRODID:-//Plone.org//NONSGML plone.app.event//EN
X-WR-TIMEZONE:Europe/Zurich
BEGIN:VEVENT
SUMMARY:Zeugnis(kopie)-Abgabe
DTSTART;VALUE=DATE:20250620
DTEND;VALUE=DATE:20250621
DTSTAMP;VALUE=DATE-TIME:20260421T111114Z
UID:040000008200E00074C5B7101A82E00800000000F09181AE45C2DA0100000000000000
 0010000000A13AFB2701939347AE0FF6B7DCE9864A
CREATED;VALUE=DATE-TIME:20240627T145046Z
LAST-MODIFIED;VALUE=DATE-TIME:20240627T145631Z
URL:https://www.sek-pratteln.ch/events/oeffentlich/zeugnis-kopie-abgabe
END:VEVENT
END:VCALENDAR
