BEGIN:VCALENDAR
VERSION:2.0
PRODID:-//Plone.org//NONSGML plone.app.event//EN
X-WR-TIMEZONE:Europe/Zurich
BEGIN:VEVENT
SUMMARY:Woche der Berufsbildung
DTSTART;VALUE=DATE:20250505
DTEND;VALUE=DATE:20250510
DTSTAMP;VALUE=DATE-TIME:20260419T153725Z
UID:040000008200E00074C5B7101A82E00800000000A05531DA41C2DA0100000000000000
 001000000045C7E40EE84A7543B8B2C0DD9C41BC5E
CREATED;VALUE=DATE-TIME:20240627T145058Z
LAST-MODIFIED;VALUE=DATE-TIME:20240627T145632Z
URL:https://www.sek-pratteln.ch/events/oeffentlich/woche-der-berufsbildung
END:VEVENT
END:VCALENDAR
