BEGIN:VCALENDAR
VERSION:2.0
PRODID:-//Plone.org//NONSGML plone.app.event//EN
X-WR-TIMEZONE:Europe/Zurich
BEGIN:VEVENT
SUMMARY:Woche der Berufsbildung
DTSTART;VALUE=DATE:20260504
DTEND;VALUE=DATE:20260509
DTSTAMP;VALUE=DATE-TIME:20260420T132530Z
UID:ed48c1434f93481b9c8c32cb87a8ab6b@82.220.37.140:8081
CREATED;VALUE=DATE-TIME:20250701T054332Z
LAST-MODIFIED;VALUE=DATE-TIME:20250701T054339Z
URL:https://www.sek-pratteln.ch/events/oeffentlich/woche-der-berufsbildung
 -1
END:VEVENT
END:VCALENDAR
