BEGIN:VCALENDAR
VERSION:2.0
PRODID:-//Plone.org//NONSGML plone.app.event//EN
X-WR-TIMEZONE:Europe/Zurich
BEGIN:VEVENT
SUMMARY:Woche B
DTSTART;VALUE=DATE:20200615
DTEND;VALUE=DATE:20200616
DTSTAMP;VALUE=DATE-TIME:20260421T104415Z
UID:040000008200E00074C5B7101A82E00800000000A0D3C4F1A931D50100000000000000
 001000000085F237863513DA409D268F50D6E8F6A6
CREATED;VALUE=DATE-TIME:20190708T101812Z
DESCRIPTION:\n\n
LAST-MODIFIED;VALUE=DATE-TIME:20200706T064356Z
URL:https://www.sek-pratteln.ch/events/oeffentlich/woche-b
END:VEVENT
END:VCALENDAR
