BEGIN:VCALENDAR
VERSION:2.0
PRODID:-//Plone.org//NONSGML plone.app.event//EN
X-WR-TIMEZONE:Europe/Zurich
BEGIN:VEVENT
SUMMARY:Woche B
DTSTART;TZID=Europe/Zurich;VALUE=DATE-TIME:20241216T070000
DTEND;TZID=Europe/Zurich;VALUE=DATE-TIME:20241216T073000
DTSTAMP;VALUE=DATE-TIME:20260421T110355Z
UID:040000008200E00074C5B7101A82E00800000000906D7F1E2FC2DA0100000000000000
 001000000080A395BAF6F5F547B2F22F090BEC5FC9
CREATED;VALUE=DATE-TIME:20240627T145135Z
LAST-MODIFIED;VALUE=DATE-TIME:20240627T145356Z
URL:https://www.sek-pratteln.ch/events/oeffentlich/woche-b-90
END:VEVENT
BEGIN:VTIMEZONE
TZID:Europe/Zurich
X-LIC-LOCATION:Europe/Zurich
BEGIN:STANDARD
DTSTART;VALUE=DATE-TIME:20241027T020000
TZNAME:CET
TZOFFSETFROM:+0200
TZOFFSETTO:+0100
END:STANDARD
END:VTIMEZONE
END:VCALENDAR
