BEGIN:VCALENDAR
VERSION:2.0
PRODID:-//Plone.org//NONSGML plone.app.event//EN
X-WR-TIMEZONE:Europe/Zurich
BEGIN:VEVENT
SUMMARY:Woche B
DTSTART;VALUE=DATE:20191216
DTEND;VALUE=DATE:20191217
DTSTAMP;VALUE=DATE-TIME:20260419T182840Z
UID:040000008200E00074C5B7101A82E00800000000B0BADA80A931D50100000000000000
 0010000000655A90F950232F4589F40BE9B5921C24
CREATED;VALUE=DATE-TIME:20190708T101817Z
DESCRIPTION:\n\n
LAST-MODIFIED;VALUE=DATE-TIME:20200706T064357Z
URL:https://www.sek-pratteln.ch/events/oeffentlich/woche-b-9
END:VEVENT
END:VCALENDAR
