BEGIN:VCALENDAR
VERSION:2.0
PRODID:-//Plone.org//NONSGML plone.app.event//EN
X-WR-TIMEZONE:Europe/Zurich
BEGIN:VEVENT
SUMMARY:Woche B
DTSTART;TZID=Europe/Zurich;VALUE=DATE-TIME:20250113T070000
DTEND;TZID=Europe/Zurich;VALUE=DATE-TIME:20250113T073000
DTSTAMP;VALUE=DATE-TIME:20260421T110404Z
UID:040000008200E00074C5B7101A82E00800000000E0C4492A2FC2DA0100000000000000
 0010000000D516897B2132BC44BE62E9B0BC48EB19
CREATED;VALUE=DATE-TIME:20240627T145134Z
LAST-MODIFIED;VALUE=DATE-TIME:20240627T145356Z
URL:https://www.sek-pratteln.ch/events/oeffentlich/woche-b-89
END:VEVENT
BEGIN:VTIMEZONE
TZID:Europe/Zurich
X-LIC-LOCATION:Europe/Zurich
BEGIN:STANDARD
DTSTART;VALUE=DATE-TIME:20241027T020000
TZNAME:CET
TZOFFSETFROM:+0200
TZOFFSETTO:+0100
END:STANDARD
END:VTIMEZONE
END:VCALENDAR
