BEGIN:VCALENDAR
VERSION:2.0
PRODID:-//Plone.org//NONSGML plone.app.event//EN
X-WR-TIMEZONE:Europe/Zurich
BEGIN:VEVENT
SUMMARY:Woche B
DTSTART;TZID=Europe/Zurich;VALUE=DATE-TIME:20250602T070000
DTEND;TZID=Europe/Zurich;VALUE=DATE-TIME:20250602T073000
DTSTAMP;VALUE=DATE-TIME:20260421T104557Z
UID:040000008200E00074C5B7101A82E0080000000000EA317F2FC2DA0100000000000000
 0010000000C28C76ACC6A9DB48872264B81B3A25D1
CREATED;VALUE=DATE-TIME:20240627T145131Z
LAST-MODIFIED;VALUE=DATE-TIME:20240627T145355Z
URL:https://www.sek-pratteln.ch/events/oeffentlich/woche-b-82
END:VEVENT
BEGIN:VTIMEZONE
TZID:Europe/Zurich
X-LIC-LOCATION:Europe/Zurich
BEGIN:DAYLIGHT
DTSTART;VALUE=DATE-TIME:20250330T030000
TZNAME:CEST
TZOFFSETFROM:+0100
TZOFFSETTO:+0200
END:DAYLIGHT
END:VTIMEZONE
END:VCALENDAR
