BEGIN:VCALENDAR
VERSION:2.0
PRODID:-//Plone.org//NONSGML plone.app.event//EN
X-WR-TIMEZONE:Europe/Zurich
BEGIN:VEVENT
SUMMARY:Woche B
DTSTART;TZID=Europe/Zurich;VALUE=DATE-TIME:20240205T070000
DTEND;TZID=Europe/Zurich;VALUE=DATE-TIME:20240205T073000
DTSTAMP;VALUE=DATE-TIME:20260421T104522Z
UID:040000008200E00074C5B7101A82E00800000000108631F62BA4D90100000000000000
 00100000006ECF12C9034CAC40942300BA145FABCA
CREATED;VALUE=DATE-TIME:20230626T125613Z
LAST-MODIFIED;VALUE=DATE-TIME:20230626T125834Z
URL:https://www.sek-pratteln.ch/events/oeffentlich/woche-b-77
END:VEVENT
BEGIN:VTIMEZONE
TZID:Europe/Zurich
X-LIC-LOCATION:Europe/Zurich
BEGIN:STANDARD
DTSTART;VALUE=DATE-TIME:20231029T020000
TZNAME:CET
TZOFFSETFROM:+0200
TZOFFSETTO:+0100
END:STANDARD
END:VTIMEZONE
END:VCALENDAR
