BEGIN:VCALENDAR
VERSION:2.0
PRODID:-//Plone.org//NONSGML plone.app.event//EN
X-WR-TIMEZONE:Europe/Zurich
BEGIN:VEVENT
SUMMARY:Woche B
DTSTART;TZID=Europe/Zurich;VALUE=DATE-TIME:20240520T070000
DTEND;TZID=Europe/Zurich;VALUE=DATE-TIME:20240520T073000
DTSTAMP;VALUE=DATE-TIME:20260421T110404Z
UID:040000008200E00074C5B7101A82E008000000005075D5D62CA4D90100000000000000
 00100000004B9443ECF2035B4DA8B67635F9AFE9DC
CREATED;VALUE=DATE-TIME:20230626T125607Z
LAST-MODIFIED;VALUE=DATE-TIME:20230626T125849Z
URL:https://www.sek-pratteln.ch/events/oeffentlich/woche-b-72
END:VEVENT
BEGIN:VTIMEZONE
TZID:Europe/Zurich
X-LIC-LOCATION:Europe/Zurich
BEGIN:DAYLIGHT
DTSTART;VALUE=DATE-TIME:20240331T030000
TZNAME:CEST
TZOFFSETFROM:+0100
TZOFFSETTO:+0200
END:DAYLIGHT
END:VTIMEZONE
END:VCALENDAR
