BEGIN:VCALENDAR
VERSION:2.0
PRODID:-//Plone.org//NONSGML plone.app.event//EN
X-WR-TIMEZONE:Europe/Zurich
BEGIN:VEVENT
SUMMARY:Woche B
DTSTART;VALUE=DATE:20200203
DTEND;VALUE=DATE:20200204
DTSTAMP;VALUE=DATE-TIME:20260421T104521Z
UID:040000008200E00074C5B7101A82E0080000000080B9DD9FA931D50100000000000000
 00100000003CFA0D4E8C8F044EAFE17CC884973C85
CREATED;VALUE=DATE-TIME:20190708T101816Z
DESCRIPTION:\n\n
LAST-MODIFIED;VALUE=DATE-TIME:20200706T064357Z
URL:https://www.sek-pratteln.ch/events/oeffentlich/woche-b-7
END:VEVENT
END:VCALENDAR
