BEGIN:VCALENDAR
VERSION:2.0
PRODID:-//Plone.org//NONSGML plone.app.event//EN
X-WR-TIMEZONE:Europe/Zurich
BEGIN:VEVENT
SUMMARY:Woche B
DTSTART;TZID=Europe/Zurich;VALUE=DATE-TIME:20220620T070000
DTEND;TZID=Europe/Zurich;VALUE=DATE-TIME:20220620T073000
DTSTAMP;VALUE=DATE-TIME:20260421T110434Z
UID:AAAAADmvca/QyjxDuaACAdVl1X4EGyAA
CREATED;VALUE=DATE-TIME:20220627T163436Z
LAST-MODIFIED;VALUE=DATE-TIME:20220627T165854Z
URL:https://www.sek-pratteln.ch/events/oeffentlich/woche-b-69
END:VEVENT
BEGIN:VTIMEZONE
TZID:Europe/Zurich
X-LIC-LOCATION:Europe/Zurich
BEGIN:DAYLIGHT
DTSTART;VALUE=DATE-TIME:20220327T030000
TZNAME:CEST
TZOFFSETFROM:+0100
TZOFFSETTO:+0200
END:DAYLIGHT
END:VTIMEZONE
END:VCALENDAR
