BEGIN:VCALENDAR
VERSION:2.0
PRODID:-//Plone.org//NONSGML plone.app.event//EN
X-WR-TIMEZONE:Europe/Zurich
BEGIN:VEVENT
SUMMARY:Woche B
DTSTART;TZID=Europe/Zurich;VALUE=DATE-TIME:20230619T070000
DTEND;TZID=Europe/Zurich;VALUE=DATE-TIME:20230619T073000
DTSTAMP;VALUE=DATE-TIME:20260421T110356Z
UID:040000008200E00074C5B7101A82E0080000000080B197ABA281D80100000000000000
 00100000003CF398B9788DA14FB3F7A060556ACF6D
CREATED;VALUE=DATE-TIME:20220627T163353Z
DESCRIPTION: \n
LAST-MODIFIED;VALUE=DATE-TIME:20220627T170018Z
URL:https://www.sek-pratteln.ch/events/oeffentlich/woche-b-68
END:VEVENT
BEGIN:VTIMEZONE
TZID:Europe/Zurich
X-LIC-LOCATION:Europe/Zurich
BEGIN:DAYLIGHT
DTSTART;VALUE=DATE-TIME:20230326T030000
TZNAME:CEST
TZOFFSETFROM:+0100
TZOFFSETTO:+0200
END:DAYLIGHT
END:VTIMEZONE
END:VCALENDAR
