BEGIN:VCALENDAR
VERSION:2.0
PRODID:-//Plone.org//NONSGML plone.app.event//EN
X-WR-TIMEZONE:Europe/Zurich
BEGIN:VEVENT
SUMMARY:Woche B
DTSTART;TZID=Europe/Zurich;VALUE=DATE-TIME:20220606T070000
DTEND;TZID=Europe/Zurich;VALUE=DATE-TIME:20220606T073000
DTSTAMP;VALUE=DATE-TIME:20260421T110530Z
UID:040000008200E00074C5B7101A82E00800000000603689300B62D70100000000000000
 0010000000BA3B8211A0F04E4186E966E6B6037AEF
CREATED;VALUE=DATE-TIME:20210701T072552Z
LAST-MODIFIED;VALUE=DATE-TIME:20210701T072934Z
URL:https://www.sek-pratteln.ch/events/oeffentlich/woche-b-50
END:VEVENT
BEGIN:VTIMEZONE
TZID:Europe/Zurich
X-LIC-LOCATION:Europe/Zurich
BEGIN:DAYLIGHT
DTSTART;VALUE=DATE-TIME:20220327T030000
TZNAME:CEST
TZOFFSETFROM:+0100
TZOFFSETTO:+0200
END:DAYLIGHT
END:VTIMEZONE
END:VCALENDAR
