BEGIN:VCALENDAR
VERSION:2.0
PRODID:-//Plone.org//NONSGML plone.app.event//EN
X-WR-TIMEZONE:Europe/Zurich
BEGIN:VEVENT
SUMMARY:Woche B
DTSTART;VALUE=DATE:20200316
DTEND;VALUE=DATE:20200317
DTSTAMP;VALUE=DATE-TIME:20260419T153602Z
UID:040000008200E00074C5B7101A82E00800000000303510B5A931D50100000000000000
 00100000000A797A69E271574A8D34F43E3B058F47
CREATED;VALUE=DATE-TIME:20190708T101815Z
DESCRIPTION:\n\n
LAST-MODIFIED;VALUE=DATE-TIME:20200706T064356Z
URL:https://www.sek-pratteln.ch/events/oeffentlich/woche-b-5
END:VEVENT
END:VCALENDAR
