BEGIN:VCALENDAR
VERSION:2.0
PRODID:-//Plone.org//NONSGML plone.app.event//EN
X-WR-TIMEZONE:Europe/Zurich
BEGIN:VEVENT
SUMMARY:Woche B
DTSTART;TZID=Europe/Zurich;VALUE=DATE-TIME:20220516T070000
DTEND;TZID=Europe/Zurich;VALUE=DATE-TIME:20220516T073000
DTSTAMP;VALUE=DATE-TIME:20260421T110336Z
UID:040000008200E00074C5B7101A82E008000000008017341B0B62D70100000000000000
 00100000003071C30F34AB42468D993AFED18DDB7C
CREATED;VALUE=DATE-TIME:20210701T072551Z
LAST-MODIFIED;VALUE=DATE-TIME:20210701T072934Z
URL:https://www.sek-pratteln.ch/events/oeffentlich/woche-b-49
END:VEVENT
BEGIN:VTIMEZONE
TZID:Europe/Zurich
X-LIC-LOCATION:Europe/Zurich
BEGIN:DAYLIGHT
DTSTART;VALUE=DATE-TIME:20220327T030000
TZNAME:CEST
TZOFFSETFROM:+0100
TZOFFSETTO:+0200
END:DAYLIGHT
END:VTIMEZONE
END:VCALENDAR
