BEGIN:VCALENDAR
VERSION:2.0
PRODID:-//Plone.org//NONSGML plone.app.event//EN
X-WR-TIMEZONE:Europe/Zurich
BEGIN:VEVENT
SUMMARY:Woche B
DTSTART;TZID=Europe/Zurich;VALUE=DATE-TIME:20220404T070000
DTEND;TZID=Europe/Zurich;VALUE=DATE-TIME:20220404T073000
DTSTAMP;VALUE=DATE-TIME:20260421T104708Z
UID:040000008200E00074C5B7101A82E00800000000C040A1D10A62D70100000000000000
 0010000000C4E3672F204B3B43A2408995D31C6BAB
CREATED;VALUE=DATE-TIME:20210701T072549Z
LAST-MODIFIED;VALUE=DATE-TIME:20210701T072934Z
URL:https://www.sek-pratteln.ch/events/oeffentlich/woche-b-47
END:VEVENT
BEGIN:VTIMEZONE
TZID:Europe/Zurich
X-LIC-LOCATION:Europe/Zurich
BEGIN:DAYLIGHT
DTSTART;VALUE=DATE-TIME:20220327T030000
TZNAME:CEST
TZOFFSETFROM:+0100
TZOFFSETTO:+0200
END:DAYLIGHT
END:VTIMEZONE
END:VCALENDAR
