BEGIN:VCALENDAR
VERSION:2.0
PRODID:-//Plone.org//NONSGML plone.app.event//EN
X-WR-TIMEZONE:Europe/Zurich
BEGIN:VEVENT
SUMMARY:Woche B
DTSTART;TZID=Europe/Zurich;VALUE=DATE-TIME:20220117T070000
DTEND;TZID=Europe/Zurich;VALUE=DATE-TIME:20220117T073000
DTSTAMP;VALUE=DATE-TIME:20260421T110356Z
UID:040000008200E00074C5B7101A82E008000000005000464C0A62D70100000000000000
 001000000095795451A5CAF241B78BE94AB9898EC6
CREATED;VALUE=DATE-TIME:20210701T072546Z
LAST-MODIFIED;VALUE=DATE-TIME:20210701T072933Z
URL:https://www.sek-pratteln.ch/events/oeffentlich/woche-b-43
END:VEVENT
BEGIN:VTIMEZONE
TZID:Europe/Zurich
X-LIC-LOCATION:Europe/Zurich
BEGIN:STANDARD
DTSTART;VALUE=DATE-TIME:20211031T020000
TZNAME:CET
TZOFFSETFROM:+0200
TZOFFSETTO:+0100
END:STANDARD
END:VTIMEZONE
END:VCALENDAR
