BEGIN:VCALENDAR
VERSION:2.0
PRODID:-//Plone.org//NONSGML plone.app.event//EN
X-WR-TIMEZONE:Europe/Zurich
BEGIN:VEVENT
SUMMARY:Woche B
DTSTART;VALUE=DATE:20200330
DTEND;VALUE=DATE:20200331
DTSTAMP;VALUE=DATE-TIME:20260421T110357Z
UID:040000008200E00074C5B7101A82E0080000000010E6E2BFA931D50100000000000000
 0010000000577A0FDB78913041B11832D639F8F2F7
CREATED;VALUE=DATE-TIME:20190708T101814Z
DESCRIPTION:\n\n
LAST-MODIFIED;VALUE=DATE-TIME:20200706T064356Z
URL:https://www.sek-pratteln.ch/events/oeffentlich/woche-b-4
END:VEVENT
END:VCALENDAR
