BEGIN:VCALENDAR
VERSION:2.0
PRODID:-//Plone.org//NONSGML plone.app.event//EN
X-WR-TIMEZONE:Europe/Zurich
BEGIN:VEVENT
SUMMARY:Woche B
DTSTART;TZID=Europe/Zurich;VALUE=DATE-TIME:20211108T070000
DTEND;TZID=Europe/Zurich;VALUE=DATE-TIME:20211108T073000
DTSTAMP;VALUE=DATE-TIME:20260421T104521Z
UID:040000008200E00074C5B7101A82E0080000000070801F650962D70100000000000000
 0010000000742CCB3C6AA1C84EB4D56FC1FCD867BD
CREATED;VALUE=DATE-TIME:20210701T072542Z
LAST-MODIFIED;VALUE=DATE-TIME:20210701T072956Z
URL:https://www.sek-pratteln.ch/events/oeffentlich/woche-b-39
END:VEVENT
BEGIN:VTIMEZONE
TZID:Europe/Zurich
X-LIC-LOCATION:Europe/Zurich
BEGIN:STANDARD
DTSTART;VALUE=DATE-TIME:20211031T020000
TZNAME:CET
TZOFFSETFROM:+0200
TZOFFSETTO:+0100
END:STANDARD
END:VTIMEZONE
END:VCALENDAR
