BEGIN:VCALENDAR
VERSION:2.0
PRODID:-//Plone.org//NONSGML plone.app.event//EN
X-WR-TIMEZONE:Europe/Zurich
BEGIN:VEVENT
SUMMARY:Woche B
DTSTART;TZID=Europe/Zurich;VALUE=DATE-TIME:20210823T070000
DTEND;TZID=Europe/Zurich;VALUE=DATE-TIME:20210823T073000
DTSTAMP;VALUE=DATE-TIME:20260421T110434Z
UID:040000008200E00074C5B7101A82E00800000000B05B03B70862D70100000000000000
 0010000000D4FF0A6AA3900C479811438C1A742004
CREATED;VALUE=DATE-TIME:20210701T072539Z
LAST-MODIFIED;VALUE=DATE-TIME:20210701T072955Z
URL:https://www.sek-pratteln.ch/events/oeffentlich/woche-b-35
END:VEVENT
BEGIN:VTIMEZONE
TZID:Europe/Zurich
X-LIC-LOCATION:Europe/Zurich
BEGIN:DAYLIGHT
DTSTART;VALUE=DATE-TIME:20210328T030000
TZNAME:CEST
TZOFFSETFROM:+0100
TZOFFSETTO:+0200
END:DAYLIGHT
END:VTIMEZONE
END:VCALENDAR
