BEGIN:VCALENDAR
VERSION:2.0
PRODID:-//Plone.org//NONSGML plone.app.event//EN
X-WR-TIMEZONE:Europe/Zurich
BEGIN:VEVENT
SUMMARY:Woche B
DTSTART;TZID=Europe/Zurich;VALUE=DATE-TIME:20200831T070000
DTEND;TZID=Europe/Zurich;VALUE=DATE-TIME:20200831T073000
DTSTAMP;VALUE=DATE-TIME:20260419T153709Z
UID:040000008200E00074C5B7101A82E0080000000010B686EE7E45D60100000000000000
 0010000000432BD6F9544969429F248EA570861524
CREATED;VALUE=DATE-TIME:20200706T062937Z
LAST-MODIFIED;VALUE=DATE-TIME:20200706T064410Z
URL:https://www.sek-pratteln.ch/events/oeffentlich/woche-b-34
END:VEVENT
BEGIN:VTIMEZONE
TZID:Europe/Zurich
X-LIC-LOCATION:Europe/Zurich
BEGIN:DAYLIGHT
DTSTART;VALUE=DATE-TIME:20200329T030000
TZNAME:CEST
TZOFFSETFROM:+0100
TZOFFSETTO:+0200
END:DAYLIGHT
END:VTIMEZONE
END:VCALENDAR
