BEGIN:VCALENDAR
VERSION:2.0
PRODID:-//Plone.org//NONSGML plone.app.event//EN
X-WR-TIMEZONE:Europe/Zurich
BEGIN:VEVENT
SUMMARY:Woche B
DTSTART;VALUE=DATE:20200427
DTEND;VALUE=DATE:20200428
DTSTAMP;VALUE=DATE-TIME:20260421T104521Z
UID:040000008200E00074C5B7101A82E0080000000000B4F8CDA931D50100000000000000
 001000000087E814316508024BA01980D288FA6EE8
CREATED;VALUE=DATE-TIME:20190708T101814Z
DESCRIPTION:\n\n
LAST-MODIFIED;VALUE=DATE-TIME:20200706T064356Z
URL:https://www.sek-pratteln.ch/events/oeffentlich/woche-b-3
END:VEVENT
END:VCALENDAR
