BEGIN:VCALENDAR
VERSION:2.0
PRODID:-//Plone.org//NONSGML plone.app.event//EN
X-WR-TIMEZONE:Europe/Zurich
BEGIN:VEVENT
SUMMARY:Woche B
DTSTART;TZID=Europe/Zurich;VALUE=DATE-TIME:20201214T070000
DTEND;TZID=Europe/Zurich;VALUE=DATE-TIME:20201214T073000
DTSTAMP;VALUE=DATE-TIME:20260421T110405Z
UID:040000008200E00074C5B7101A82E0080000000040A9752C7F45D60100000000000000
 001000000089309C084D34664295DFCF19DB04A0F0
CREATED;VALUE=DATE-TIME:20200706T062932Z
LAST-MODIFIED;VALUE=DATE-TIME:20200706T064410Z
URL:https://www.sek-pratteln.ch/events/oeffentlich/woche-b-28
END:VEVENT
BEGIN:VTIMEZONE
TZID:Europe/Zurich
X-LIC-LOCATION:Europe/Zurich
BEGIN:STANDARD
DTSTART;VALUE=DATE-TIME:20201025T020000
TZNAME:CET
TZOFFSETFROM:+0200
TZOFFSETTO:+0100
END:STANDARD
END:VTIMEZONE
END:VCALENDAR
