BEGIN:VCALENDAR
VERSION:2.0
PRODID:-//Plone.org//NONSGML plone.app.event//EN
X-WR-TIMEZONE:Europe/Zurich
BEGIN:VEVENT
SUMMARY:Woche B
DTSTART;TZID=Europe/Zurich;VALUE=DATE-TIME:20210111T070000
DTEND;TZID=Europe/Zurich;VALUE=DATE-TIME:20210111T073000
DTSTAMP;VALUE=DATE-TIME:20260421T110435Z
UID:040000008200E00074C5B7101A82E008000000008084C73C7F45D60100000000000000
 0010000000275EED0FA678394FBF7E0734E80DD96E
CREATED;VALUE=DATE-TIME:20200706T062931Z
LAST-MODIFIED;VALUE=DATE-TIME:20200706T064410Z
URL:https://www.sek-pratteln.ch/events/oeffentlich/woche-b-27
END:VEVENT
BEGIN:VTIMEZONE
TZID:Europe/Zurich
X-LIC-LOCATION:Europe/Zurich
BEGIN:STANDARD
DTSTART;VALUE=DATE-TIME:20201025T020000
TZNAME:CET
TZOFFSETFROM:+0200
TZOFFSETTO:+0100
END:STANDARD
END:VTIMEZONE
END:VCALENDAR
