BEGIN:VCALENDAR
VERSION:2.0
PRODID:-//Plone.org//NONSGML plone.app.event//EN
X-WR-TIMEZONE:Europe/Zurich
BEGIN:VEVENT
SUMMARY:Woche B
DTSTART;TZID=Europe/Zurich;VALUE=DATE-TIME:20210517T070000
DTEND;TZID=Europe/Zurich;VALUE=DATE-TIME:20210517T073000
DTSTAMP;VALUE=DATE-TIME:20260421T110257Z
UID:040000008200E00074C5B7101A82E00800000000000DD3C37F45D60100000000000000
 0010000000A5212CB50B911744A0CBD66C895B1611
CREATED;VALUE=DATE-TIME:20200706T062924Z
LAST-MODIFIED;VALUE=DATE-TIME:20200706T064409Z
URL:https://www.sek-pratteln.ch/events/oeffentlich/woche-b-21
END:VEVENT
BEGIN:VTIMEZONE
TZID:Europe/Zurich
X-LIC-LOCATION:Europe/Zurich
BEGIN:DAYLIGHT
DTSTART;VALUE=DATE-TIME:20210328T030000
TZNAME:CEST
TZOFFSETFROM:+0100
TZOFFSETTO:+0200
END:DAYLIGHT
END:VTIMEZONE
END:VCALENDAR
