BEGIN:VCALENDAR
VERSION:2.0
PRODID:-//Plone.org//NONSGML plone.app.event//EN
X-WR-TIMEZONE:Europe/Zurich
BEGIN:VEVENT
SUMMARY:Woche B
DTSTART;VALUE=DATE:20200511
DTEND;VALUE=DATE:20200512
DTSTAMP;VALUE=DATE-TIME:20260421T110335Z
UID:040000008200E00074C5B7101A82E00800000000E051EFD6A931D50100000000000000
 0010000000445A2E634C9CBF4791164A5163E53F39
CREATED;VALUE=DATE-TIME:20190708T101813Z
DESCRIPTION:\n\n
LAST-MODIFIED;VALUE=DATE-TIME:20200706T064356Z
URL:https://www.sek-pratteln.ch/events/oeffentlich/woche-b-2
END:VEVENT
END:VCALENDAR
