BEGIN:VCALENDAR
VERSION:2.0
PRODID:-//Plone.org//NONSGML plone.app.event//EN
X-WR-TIMEZONE:Europe/Zurich
BEGIN:VEVENT
SUMMARY:Woche B
DTSTART;TZID=Europe/Zurich;VALUE=DATE-TIME:20250915T070000
DTEND;TZID=Europe/Zurich;VALUE=DATE-TIME:20250915T073000
DTSTAMP;VALUE=DATE-TIME:20260419T231347Z
UID:040000008200E00074C5B7101A82E0080000000050F86FF817D2DB0100000000000000
 0010000000775BD4404387EB4B8B59112B8EB2A41B
CREATED;VALUE=DATE-TIME:20250611T084927Z
LAST-MODIFIED;VALUE=DATE-TIME:20250611T085709Z
URL:https://www.sek-pratteln.ch/events/oeffentlich/woche-b-1749631767.88
END:VEVENT
BEGIN:VTIMEZONE
TZID:Europe/Zurich
X-LIC-LOCATION:Europe/Zurich
BEGIN:DAYLIGHT
DTSTART;VALUE=DATE-TIME:20250330T030000
TZNAME:CEST
TZOFFSETFROM:+0100
TZOFFSETTO:+0200
END:DAYLIGHT
END:VTIMEZONE
END:VCALENDAR
