BEGIN:VCALENDAR
VERSION:2.0
PRODID:-//Plone.org//NONSGML plone.app.event//EN
X-WR-TIMEZONE:Europe/Zurich
BEGIN:VEVENT
SUMMARY:Woche B
DTSTART;TZID=Europe/Zurich;VALUE=DATE-TIME:20251020T070000
DTEND;TZID=Europe/Zurich;VALUE=DATE-TIME:20251020T073000
DTSTAMP;VALUE=DATE-TIME:20260421T110746Z
UID:040000008200E00074C5B7101A82E00800000000B0AF3F0C18D2DB0100000000000000
 00100000005BA312C883A8D7478E69CAF7815F5D2A
CREATED;VALUE=DATE-TIME:20250611T084926Z
LAST-MODIFIED;VALUE=DATE-TIME:20250611T085709Z
URL:https://www.sek-pratteln.ch/events/oeffentlich/woche-b-1749631767.32
END:VEVENT
BEGIN:VTIMEZONE
TZID:Europe/Zurich
X-LIC-LOCATION:Europe/Zurich
BEGIN:DAYLIGHT
DTSTART;VALUE=DATE-TIME:20250330T030000
TZNAME:CEST
TZOFFSETFROM:+0100
TZOFFSETTO:+0200
END:DAYLIGHT
END:VTIMEZONE
END:VCALENDAR
