BEGIN:VCALENDAR
VERSION:2.0
PRODID:-//Plone.org//NONSGML plone.app.event//EN
X-WR-TIMEZONE:Europe/Zurich
BEGIN:VEVENT
SUMMARY:Woche B
DTSTART;TZID=Europe/Zurich;VALUE=DATE-TIME:20251103T070000
DTEND;TZID=Europe/Zurich;VALUE=DATE-TIME:20251103T073000
DTSTAMP;VALUE=DATE-TIME:20260419T213636Z
UID:040000008200E00074C5B7101A82E008000000006076871118D2DB0100000000000000
 001000000032DE54E8C20A9042B6B50F9161C78953
CREATED;VALUE=DATE-TIME:20250611T084926Z
LAST-MODIFIED;VALUE=DATE-TIME:20250611T085709Z
URL:https://www.sek-pratteln.ch/events/oeffentlich/woche-b-1749631766.89
END:VEVENT
BEGIN:VTIMEZONE
TZID:Europe/Zurich
X-LIC-LOCATION:Europe/Zurich
BEGIN:STANDARD
DTSTART;VALUE=DATE-TIME:20251026T020000
TZNAME:CET
TZOFFSETFROM:+0200
TZOFFSETTO:+0100
END:STANDARD
END:VTIMEZONE
END:VCALENDAR
