BEGIN:VCALENDAR
VERSION:2.0
PRODID:-//Plone.org//NONSGML plone.app.event//EN
X-WR-TIMEZONE:Europe/Zurich
BEGIN:VEVENT
SUMMARY:Woche B
DTSTART;TZID=Europe/Zurich;VALUE=DATE-TIME:20251117T070000
DTEND;TZID=Europe/Zurich;VALUE=DATE-TIME:20251117T073000
DTSTAMP;VALUE=DATE-TIME:20260420T170740Z
UID:040000008200E00074C5B7101A82E00800000000A05CA51818D2DB0100000000000000
 00100000001D7191098C367640BA607FE7C3A95A86
CREATED;VALUE=DATE-TIME:20250611T084926Z
LAST-MODIFIED;VALUE=DATE-TIME:20250611T085709Z
URL:https://www.sek-pratteln.ch/events/oeffentlich/woche-b-1749631766.41
END:VEVENT
BEGIN:VTIMEZONE
TZID:Europe/Zurich
X-LIC-LOCATION:Europe/Zurich
BEGIN:STANDARD
DTSTART;VALUE=DATE-TIME:20251026T020000
TZNAME:CET
TZOFFSETFROM:+0200
TZOFFSETTO:+0100
END:STANDARD
END:VTIMEZONE
END:VCALENDAR
