BEGIN:VCALENDAR
VERSION:2.0
PRODID:-//Plone.org//NONSGML plone.app.event//EN
X-WR-TIMEZONE:Europe/Zurich
BEGIN:VEVENT
SUMMARY:Woche B
DTSTART;TZID=Europe/Zurich;VALUE=DATE-TIME:20260302T070000
DTEND;TZID=Europe/Zurich;VALUE=DATE-TIME:20260302T073000
DTSTAMP;VALUE=DATE-TIME:20260419T214017Z
UID:040000008200E00074C5B7101A82E00800000000A065274C18D2DB0100000000000000
 00100000005F114B2D5808494EA981E32EF8D4FC4A
CREATED;VALUE=DATE-TIME:20250611T084923Z
LAST-MODIFIED;VALUE=DATE-TIME:20250611T085709Z
URL:https://www.sek-pratteln.ch/events/oeffentlich/woche-b-1749631764.03
END:VEVENT
BEGIN:VTIMEZONE
TZID:Europe/Zurich
X-LIC-LOCATION:Europe/Zurich
BEGIN:STANDARD
DTSTART;VALUE=DATE-TIME:20251026T020000
TZNAME:CET
TZOFFSETFROM:+0200
TZOFFSETTO:+0100
END:STANDARD
END:VTIMEZONE
END:VCALENDAR
